BEGIN:VCALENDAR
VERSION:2.0
PRODID:-//LuPe Events - ECPv6.15.20//NONSGML v1.0//EN
CALSCALE:GREGORIAN
METHOD:PUBLISH
X-WR-CALNAME:LuPe Events
X-ORIGINAL-URL:https://lupe-events.de
X-WR-CALDESC:Veranstaltungen für LuPe Events
REFRESH-INTERVAL;VALUE=DURATION:PT1H
X-Robots-Tag:noindex
X-PUBLISHED-TTL:PT1H
BEGIN:VTIMEZONE
TZID:Europe/Berlin
BEGIN:DAYLIGHT
TZOFFSETFROM:+0100
TZOFFSETTO:+0200
TZNAME:CEST
DTSTART:20250330T010000
END:DAYLIGHT
BEGIN:STANDARD
TZOFFSETFROM:+0200
TZOFFSETTO:+0100
TZNAME:CET
DTSTART:20251026T010000
END:STANDARD
BEGIN:DAYLIGHT
TZOFFSETFROM:+0100
TZOFFSETTO:+0200
TZNAME:CEST
DTSTART:20260329T010000
END:DAYLIGHT
BEGIN:STANDARD
TZOFFSETFROM:+0200
TZOFFSETTO:+0100
TZNAME:CET
DTSTART:20261025T010000
END:STANDARD
BEGIN:DAYLIGHT
TZOFFSETFROM:+0100
TZOFFSETTO:+0200
TZNAME:CEST
DTSTART:20270328T010000
END:DAYLIGHT
BEGIN:STANDARD
TZOFFSETFROM:+0200
TZOFFSETTO:+0100
TZNAME:CET
DTSTART:20271031T010000
END:STANDARD
END:VTIMEZONE
BEGIN:VEVENT
DTSTART;VALUE=DATE:20260717
DTEND;VALUE=DATE:20260721
DTSTAMP:20260425T133657
CREATED:20250911T132030Z
LAST-MODIFIED:20250911T132030Z
UID:10000073-1784264400-1784523599@lupe-events.de
SUMMARY:Kirmes in Endenich 2026
DESCRIPTION:
URL:https://lupe-events.de/event/kirmes-in-endenich-2026
LOCATION:Magdalenenplatz Endenich\, Magdalenenplatz\, Bonn\, 53121
CATEGORIES:Kirmes
END:VEVENT
END:VCALENDAR