BEGIN:VCALENDAR
VERSION:2.0
PRODID:-//LuPe Events - ECPv6.15.20//NONSGML v1.0//EN
CALSCALE:GREGORIAN
METHOD:PUBLISH
X-ORIGINAL-URL:https://lupe-events.de
X-WR-CALDESC:Veranstaltungen für LuPe Events
REFRESH-INTERVAL;VALUE=DURATION:PT1H
X-Robots-Tag:noindex
X-PUBLISHED-TTL:PT1H
BEGIN:VTIMEZONE
TZID:Europe/Berlin
BEGIN:DAYLIGHT
TZOFFSETFROM:+0100
TZOFFSETTO:+0200
TZNAME:CEST
DTSTART:20230326T010000
END:DAYLIGHT
BEGIN:STANDARD
TZOFFSETFROM:+0200
TZOFFSETTO:+0100
TZNAME:CET
DTSTART:20231029T010000
END:STANDARD
BEGIN:DAYLIGHT
TZOFFSETFROM:+0100
TZOFFSETTO:+0200
TZNAME:CEST
DTSTART:20240331T010000
END:DAYLIGHT
BEGIN:STANDARD
TZOFFSETFROM:+0200
TZOFFSETTO:+0100
TZNAME:CET
DTSTART:20241027T010000
END:STANDARD
BEGIN:DAYLIGHT
TZOFFSETFROM:+0100
TZOFFSETTO:+0200
TZNAME:CEST
DTSTART:20250330T010000
END:DAYLIGHT
BEGIN:STANDARD
TZOFFSETFROM:+0200
TZOFFSETTO:+0100
TZNAME:CET
DTSTART:20251026T010000
END:STANDARD
BEGIN:DAYLIGHT
TZOFFSETFROM:+0100
TZOFFSETTO:+0200
TZNAME:CEST
DTSTART:20260329T010000
END:DAYLIGHT
BEGIN:STANDARD
TZOFFSETFROM:+0200
TZOFFSETTO:+0100
TZNAME:CET
DTSTART:20261025T010000
END:STANDARD
BEGIN:DAYLIGHT
TZOFFSETFROM:+0100
TZOFFSETTO:+0200
TZNAME:CEST
DTSTART:20270328T010000
END:DAYLIGHT
BEGIN:STANDARD
TZOFFSETFROM:+0200
TZOFFSETTO:+0100
TZNAME:CET
DTSTART:20271031T010000
END:STANDARD
END:VTIMEZONE
BEGIN:VEVENT
DTSTART;TZID=Europe/Berlin:20260124T153000
DTEND;TZID=Europe/Berlin:20260124T230000
DTSTAMP:20260421T152014
CREATED:20251227T210114Z
LAST-MODIFIED:20251227T210114Z
UID:10000083-1769268600-1769295600@lupe-events.de
SUMMARY:KARNEVALSSITZUNG der Funkentöter
DESCRIPTION:
URL:https://lupe-events.de/event/karnevalssitzung-der-funkentoeter
LOCATION:Toni-Mai-Halle\, Schmittstraße\, Bonn\, 53123
CATEGORIES:Karneval,Partnervereine
ATTACH;FMTTYPE=image/jpeg:https://lupe-events.de/wp-content/uploads/2025/12/d102148f-eea6-4d9a-9111-29c48950638d.jpg
END:VEVENT
BEGIN:VEVENT
DTSTART;TZID=Europe/Berlin:20240127T140000
DTEND;TZID=Europe/Berlin:20240127T233000
DTSTAMP:20260421T152014
CREATED:20240107T111556Z
LAST-MODIFIED:20240107T111556Z
UID:10000014-1706364000-1706398200@lupe-events.de
SUMMARY:Karnevalssitzung der Bönnschen Funkentöter 1973 e.V.
DESCRIPTION:
URL:https://lupe-events.de/event/karnevalssitzung-der-boennschen-funkentoeter-1973-e-v
LOCATION:Toni-Mai-Halle\, Schmittstraße\, Bonn\, 53123
CATEGORIES:Karneval,Partnervereine
ATTACH;FMTTYPE=image/jpeg:https://lupe-events.de/wp-content/uploads/2024/01/79bf6cd8-e5fc-4073-aaa8-81aa0cdc90b7-e1704626142718.jpg
END:VEVENT
BEGIN:VEVENT
DTSTART;TZID=Europe/Berlin:20240107T130000
DTEND;TZID=Europe/Berlin:20240107T180000
DTSTAMP:20260421T152014
CREATED:20240102T205826Z
LAST-MODIFIED:20240102T205826Z
UID:10000012-1704632400-1704650400@lupe-events.de
SUMMARY:Hardtberger Kinderkostümfest 2024
DESCRIPTION:
URL:https://lupe-events.de/event/hardtberger-kinderkostuemfest-2024
LOCATION:Toni-Mai-Halle\, Schmittstraße\, Bonn\, 53123
CATEGORIES:Karneval,Partnervereine
ATTACH;FMTTYPE=image/jpeg:https://lupe-events.de/wp-content/uploads/2024/01/FB_IMG_1703964695294-e1704229393146.jpg
END:VEVENT
END:VCALENDAR